BEGIN:VCALENDAR
VERSION:2.0
PRODID:icalendar-ruby
CALSCALE:GREGORIAN
METHOD:PUBLISH
BEGIN:VEVENT
DTSTAMP:20260419T125647Z
UID:69-194962@yoursisinchrist.org
DTSTART:20251024T010000Z
DTEND:20251024T030000Z
CLASS:PUBLIC
CREATED:20251018T121855
DESCRIPTION:HOSTED BY HOPE CHURCH LV:  To join\, please visit https://hope
 churchlv.com/events/fall-studies/ to sign up and receive more information.
 \nStudies are semi-annual\, semester-based\, topic driven learning environ
 ments designed to instruct large groups toward growing in their relationsh
 ip with Jesus. This fall\, we are offering two studies beginning on Thursd
 ay\, October 16th at Hope Church LV! Please provide your information below
  and choose ONE 3-week study. Our studies will be on the topics of marri
 age entitled\, “Stronger Together” and the authority of the Bible en
 titled\, “Can I Trust the Bible?” 
LAST-MODIFIED:20251018T121855
LOCATION:HOPE CHURCH LV 850 E. Cactus Ave. Las Vegas\, NV 89183
SUMMARY:Fall Studies (Hope Church LV)
URL;VALUE=URI:https://www.yoursisinchrist.org/events/fall-studies-hope-chur
 ch-lv/2025-10-23
ATTACH;FILENAME=FallStudies.jpg;FMTTYPE=image/jpeg:https://dq5pwpg1q8ru0.cl
 oudfront.net/2025/10/18/19/18/55/51b045d9-e890-4ca2-bea8-8e0f7ab81b78/Fall
 Studies.jpg
END:VEVENT
END:VCALENDAR
